BEGIN:VCALENDAR
VERSION:2.0
PRODID:-//Dutch Network Greater Vancouver - ECPv5.7.0//NONSGML v1.0//EN
CALSCALE:GREGORIAN
METHOD:PUBLISH
X-WR-CALNAME:Dutch Network Greater Vancouver
X-ORIGINAL-URL:https://www.dutchnetwork.ca
X-WR-CALDESC:Events for Dutch Network Greater Vancouver
BEGIN:VTIMEZONE
TZID:America/Vancouver
BEGIN:DAYLIGHT
TZOFFSETFROM:-0800
TZOFFSETTO:-0700
TZNAME:PDT
DTSTART:20220313T100000
END:DAYLIGHT
BEGIN:STANDARD
TZOFFSETFROM:-0700
TZOFFSETTO:-0800
TZNAME:PST
DTSTART:20221106T090000
END:STANDARD
END:VTIMEZONE
BEGIN:VEVENT
DTSTART;TZID=America/Vancouver:20220811T100000
DTEND;TZID=America/Vancouver:20220811T120000
DTSTAMP:20260423T104749
CREATED:20220817T040719Z
LAST-MODIFIED:20220817T040730Z
UID:138450-1660212000-1660219200@www.dutchnetwork.ca
SUMMARY:South Surrey Dutch Coffee Club
DESCRIPTION:Please call for location\nContact Riet Breukels at (604) 538-8029 or rietbreukels(Replace this parenthesis with the @ sign)shaw.ca
URL:https://www.dutchnetwork.ca/event/south-surrey-dutch-coffee-club/2022-08-11/
LOCATION:Vancouver\, British Columbia\, Canada
CATEGORIES:Dutch Coffee Clubs
GEO:49.2827291;-123.1207375
END:VEVENT
END:VCALENDAR