BEGIN:VCALENDAR
VERSION:2.0
PRODID:-//Dutch Network Greater Vancouver - ECPv5.7.0//NONSGML v1.0//EN
CALSCALE:GREGORIAN
METHOD:PUBLISH
X-WR-CALNAME:Dutch Network Greater Vancouver
X-ORIGINAL-URL:https://www.dutchnetwork.ca
X-WR-CALDESC:Events for Dutch Network Greater Vancouver
BEGIN:VTIMEZONE
TZID:America/Vancouver
BEGIN:DAYLIGHT
TZOFFSETFROM:-0800
TZOFFSETTO:-0700
TZNAME:PDT
DTSTART:20170312T100000
END:DAYLIGHT
BEGIN:STANDARD
TZOFFSETFROM:-0700
TZOFFSETTO:-0800
TZNAME:PST
DTSTART:20171105T090000
END:STANDARD
END:VTIMEZONE
BEGIN:VEVENT
DTSTART;TZID=America/Vancouver:20171028T180000
DTEND;TZID=America/Vancouver:20171028T230000
DTSTAMP:20260425T063124
CREATED:20171020T011520Z
LAST-MODIFIED:20171020T012454Z
UID:2208-1509213600-1509231600@www.dutchnetwork.ca
SUMMARY:Oktoberfest Vancouver
DESCRIPTION:You like to enjoy German food and beer steins by swaying to live music and being part of typical Oktoberfest traditions? \nThen it’s time to unpack your Lederhosen and Dirndl as the Vancouver Alpen Club is pleased to announce its Oktoberfest #DASORIGINAL. \nJoin us for dinner and dancing!\nCocktails from 6:00 pm\, dinner at 6:30 pm.\nEntertainment at 8:30 pm including Bavarian dancers. Enjoy plokas\, waltzes and pop tunes. \nVIP tickets $75 include admission and access to a designated area that provides a delicious German buffet and a server who takes care of your drinks all night long. Tickets are limited\, so be the first! \nIf you are interested in joining us at our Dutch table\, please contact Adriana Zylmans at (604) 816-3243 or send an email to azylmans(Replace this parenthesis with the @ sign)telus.net.
URL:https://www.dutchnetwork.ca/event/oktoberfest/
LOCATION:Vancouver Alpen Club\, 4875 Victoria Drive\, Vancouver\, BC\, V5N 4P3\, Canada
CATEGORIES:Dutch Pub Night,Other Dutch Events
ATTACH;FMTTYPE=image/png:https://www.dutchnetwork.ca/wp-content/uploads/2017/10/Oktoberfest_Vancouver.png
GEO:49.240436;-123.065512
X-APPLE-STRUCTURED-LOCATION;VALUE=URI;X-ADDRESS=Vancouver Alpen Club 4875 Victoria Drive Vancouver BC V5N 4P3 Canada;X-APPLE-RADIUS=500;X-TITLE=4875 Victoria Drive:geo:-123.065512,49.240436
END:VEVENT
END:VCALENDAR