BEGIN:VCALENDAR
VERSION:2.0
PRODID:-//Dutch Network Greater Vancouver - ECPv5.7.0//NONSGML v1.0//EN
CALSCALE:GREGORIAN
METHOD:PUBLISH
X-WR-CALNAME:Dutch Network Greater Vancouver
X-ORIGINAL-URL:https://www.dutchnetwork.ca
X-WR-CALDESC:Events for Dutch Network Greater Vancouver
BEGIN:VTIMEZONE
TZID:America/Vancouver
BEGIN:DAYLIGHT
TZOFFSETFROM:-0800
TZOFFSETTO:-0700
TZNAME:PDT
DTSTART:20230312T100000
END:DAYLIGHT
BEGIN:STANDARD
TZOFFSETFROM:-0700
TZOFFSETTO:-0800
TZNAME:PST
DTSTART:20231105T090000
END:STANDARD
END:VTIMEZONE
BEGIN:VEVENT
DTSTART;TZID=America/Vancouver:20231011T180000
DTEND;TZID=America/Vancouver:20231011T230000
DTSTAMP:20260423T024503
CREATED:20210902T193346Z
LAST-MODIFIED:20231006T005433Z
UID:77085-1697047200-1697065200@www.dutchnetwork.ca
SUMMARY:OUTDOOR Dutch Pub Night – Dewdney (Cancelled)
DESCRIPTION:Please note that the Mission Dutch Pub Night in October has been cancelled. Unfortunately we were unable to make it work with the volunteers’ schedule. Our apologies. The Pub Night will be back in November as usual. We hope to see you all then. \nEvery second Wednesday of the month.\nTime: 18:00\nLocation: Historical Dewdney Pub (backyard)\, 8793 River Rd S\, Dewdney\nfor more information contact Jette Warman\, jettew58(Replace this parenthesis with the @ sign)shaw.ca
URL:https://www.dutchnetwork.ca/event/dutch-pub-night-dewdney-2023-10-11/
LOCATION:Historical Dewdney Pub\, 8793 River Rd S\, Dewdney\, British Columbia\, V0M 1H0\, Canada
CATEGORIES:Dutch Pub Night
END:VEVENT
END:VCALENDAR