BEGIN:VCALENDAR
VERSION:2.0
PRODID:-//Dutch Network Greater Vancouver - ECPv5.7.0//NONSGML v1.0//EN
CALSCALE:GREGORIAN
METHOD:PUBLISH
X-WR-CALNAME:Dutch Network Greater Vancouver
X-ORIGINAL-URL:https://www.dutchnetwork.ca
X-WR-CALDESC:Events for Dutch Network Greater Vancouver
BEGIN:VTIMEZONE
TZID:America/Vancouver
BEGIN:DAYLIGHT
TZOFFSETFROM:-0800
TZOFFSETTO:-0700
TZNAME:PDT
DTSTART:20220313T100000
END:DAYLIGHT
BEGIN:STANDARD
TZOFFSETFROM:-0700
TZOFFSETTO:-0800
TZNAME:PST
DTSTART:20221106T090000
END:STANDARD
END:VTIMEZONE
BEGIN:VEVENT
DTSTART;TZID=America/Vancouver:20220917T100000
DTEND;TZID=America/Vancouver:20220917T150000
DTSTAMP:20260424T084036
CREATED:20220805T161522Z
LAST-MODIFIED:20220805T161522Z
UID:136232-1663408800-1663426800@www.dutchnetwork.ca
SUMMARY:Dutch Network - Scavenger Hunt 2022
DESCRIPTION:The 2022 Scavenger Hunt. Organized by Dutch Network. \n\n\nAbout this event\n\n\n\nNOTE: ONLY PURCHASE 1 TICKET PER TEAM! \n2nd Annual Dutch Network Magical Mystery Scavenger Hunt \nOur scavenger hunts in Fort Langley and Port Moody were such a hit we keep doing this every year!!! Get your teams ready! \nDutch Network is holding this years event in Jubilee Park\, Abbotsford. We’ll have lots fun and games to do together as a family and meet your fellow Dutchies\, family and friends of Dutchies\, or anyone else who is interested in joining us. \nNOTE: ONLY PURCHASE 1 TICKET PER TEAM! \nREGISTRATION : Your ticket is for a team of max 6 people. ONLY one payment per team required. pre-registration is required as onsite registration is not available. To take advantage of the member discount click here https://www.dutchnetwork.ca/product/dutch-network-annual-membership. To claim a discount\, buy your Dutch Network Membership BEFORE you buy tickets to the event. \nDeadline for registration is September 15\, 2021. \nWear your Oranje &/or Prizes will be awarded for the Best Dressed Team. \nWe look forward to seeing you all rain or shine!! \nNOTE: ONLY PURCHASE 1 TICKET PER TEAM! \nRegister here >>>
URL:https://www.dutchnetwork.ca/event/dutch-network-scavenger-hunt-2022/
LOCATION:Jubilee Park\, 2552 McCallum Road\, Abbotsford\, British Columbia\, V2S 2B9\, Canada
CATEGORIES:Other Dutch Events
ATTACH;FMTTYPE=image/jpeg:https://www.dutchnetwork.ca/wp-content/uploads/2022/08/scavenger-hunt.jpg
END:VEVENT
END:VCALENDAR