BEGIN:VCALENDAR
VERSION:2.0
PRODID:-//Dutch Network Greater Vancouver - ECPv5.7.0//NONSGML v1.0//EN
CALSCALE:GREGORIAN
METHOD:PUBLISH
X-WR-CALNAME:Dutch Network Greater Vancouver
X-ORIGINAL-URL:https://www.dutchnetwork.ca
X-WR-CALDESC:Events for Dutch Network Greater Vancouver
BEGIN:VTIMEZONE
TZID:America/Vancouver
BEGIN:DAYLIGHT
TZOFFSETFROM:-0800
TZOFFSETTO:-0700
TZNAME:PDT
DTSTART:20180311T100000
END:DAYLIGHT
BEGIN:STANDARD
TZOFFSETFROM:-0700
TZOFFSETTO:-0800
TZNAME:PST
DTSTART:20181104T090000
END:STANDARD
END:VTIMEZONE
BEGIN:VEVENT
DTSTART;TZID=America/Vancouver:20180929T100000
DTEND;TZID=America/Vancouver:20180929T150000
DTSTAMP:20260423T014126
CREATED:20170902T153120Z
LAST-MODIFIED:20180921T173228Z
UID:2126-1538215200-1538233200@www.dutchnetwork.ca
SUMMARY:Dutch Bike Ride - Fort Langley
DESCRIPTION:Come and join us for our last bike ride for this season. We are cycling around Fort Langley on Saturday\, September 29\, 2018. (Although our bike ride was scheduled for this Saturday\, the weather forecast is rain and cool so we are postponing the ride to next week when the weather forecast is sunny). \nWe will meet at 10:00 am in the Parking Lot at Derby Reach Regional Park (Edgewater Bar)\, and depart by 10:30 am. \nThe Edgewater Bar parking lot is located on Allard Crescent in Fort Langley. \nLunch will be at Fortitude Restaurant at 190 – 9220 Glover Road\, Fort Langley. \nCheck out the restaurant at fortituderestaurant.com in Fort Langley. \nOur bike ride is approximately 28.5 km and we should be done by 3:00 pm. \nPlease RSVP\, if you plan to join the cycling group. Contact Adriana Zylmans by email: azylmans(Replace this parenthesis with the @ sign)telus.net or calling (604) 278-9667 or cell (604) 816-3243 . \nTravel Directions: If you are coming from Vancouver; follow Highway One to exit 58 and continue North on 200 Street. Turn right on 96th Ave. and turn left on 208 St. After about 2 km\, the road veers to the right\, and turns into Allard Crescent. On your left is Derby Reach Regional Park (Edgewater Bar). We will meet in the far parking lot near the river. \nCycling route directions will be provided on the day of the ride.
URL:https://www.dutchnetwork.ca/event/dutch-bike-ride-fort-langley/
LOCATION:Derby Reach Regional Park – Langley\, 21757 Allard Crescent\, Langley\, British Columbia\, V1M 3V2\, Canada
CATEGORIES:Dutch Bike Rides
ATTACH;FMTTYPE=image/jpeg:https://www.dutchnetwork.ca/wp-content/uploads/2017/09/strava6170185201740189659.jpg
ORGANIZER;CN="Adriana":MAILTO:azylmans@telus.net
GEO:49.2063423;-122.6164395
X-APPLE-STRUCTURED-LOCATION;VALUE=URI;X-ADDRESS=Derby Reach Regional Park – Langley 21757 Allard Crescent Langley British Columbia V1M 3V2 Canada;X-APPLE-RADIUS=500;X-TITLE=21757 Allard Crescent:geo:-122.6164395,49.2063423
END:VEVENT
END:VCALENDAR